BEGIN:VCALENDAR
VERSION:2.0
PRODID:-//Eastern NY Youth Soccer Association - ECPv6.15.17.1//NONSGML v1.0//EN
CALSCALE:GREGORIAN
METHOD:PUBLISH
X-ORIGINAL-URL:https://www.enysoccer.com
X-WR-CALDESC:Events for Eastern NY Youth Soccer Association
REFRESH-INTERVAL;VALUE=DURATION:PT1H
X-Robots-Tag:noindex
X-PUBLISHED-TTL:PT1H
BEGIN:VTIMEZONE
TZID:America/New_York
BEGIN:DAYLIGHT
TZOFFSETFROM:-0500
TZOFFSETTO:-0400
TZNAME:EDT
DTSTART:20240310T070000
END:DAYLIGHT
BEGIN:STANDARD
TZOFFSETFROM:-0400
TZOFFSETTO:-0500
TZNAME:EST
DTSTART:20241103T060000
END:STANDARD
BEGIN:DAYLIGHT
TZOFFSETFROM:-0500
TZOFFSETTO:-0400
TZNAME:EDT
DTSTART:20250309T070000
END:DAYLIGHT
BEGIN:STANDARD
TZOFFSETFROM:-0400
TZOFFSETTO:-0500
TZNAME:EST
DTSTART:20251102T060000
END:STANDARD
BEGIN:DAYLIGHT
TZOFFSETFROM:-0500
TZOFFSETTO:-0400
TZNAME:EDT
DTSTART:20260308T070000
END:DAYLIGHT
BEGIN:STANDARD
TZOFFSETFROM:-0400
TZOFFSETTO:-0500
TZNAME:EST
DTSTART:20261101T060000
END:STANDARD
END:VTIMEZONE
BEGIN:VEVENT
DTSTART;VALUE=DATE:20250802
DTEND;VALUE=DATE:20250803
DTSTAMP:20260421T214504
CREATED:20250422T140025Z
LAST-MODIFIED:20250731T175832Z
UID:10000538-1754121600-1754154000@www.enysoccer.com
SUMMARY:CANCELLED-----2025 Summer Series 6v6-----CANCELLED
DESCRIPTION:Jun-2025 Summer Series Soccer tournament \n  \nTournament Director:  Nick Gordon \nEmail:   info@etasoccerpark.com
URL:https://www.enysoccer.com/event/2025-summer-series-6v6/2025-08-02/
LOCATION:ETA Soccer Park\, Hawkins Rd\,\, Centereach\, New York\, 11720\, United States
CATEGORIES:Sanctioned Tournaments
END:VEVENT
BEGIN:VEVENT
DTSTART;VALUE=DATE:20250803
DTEND;VALUE=DATE:20250804
DTSTAMP:20260421T214504
CREATED:20250609T190243Z
LAST-MODIFIED:20250609T190243Z
UID:10000546-1754179200-1754265599@www.enysoccer.com
SUMMARY:LERSC 3RD Annual Summer Showdown
DESCRIPTION:Aug-LERSC 3rd Annual Summer Showdown \n  \nTournament Director:  Jennifer Ruggiero \nEmail:  Sponsorship.lersc@gmail.com
URL:https://www.enysoccer.com/event/lersc-3rd-annual-summer-showdown/
LOCATION:Greis Park\, Wright Avenue\, Lynbrook\, NY\, 11563\, United States
CATEGORIES:Sanctioned Tournaments
END:VEVENT
BEGIN:VEVENT
DTSTART;VALUE=DATE:20250804
DTEND;VALUE=DATE:20250805
DTSTAMP:20260421T214504
CREATED:20250422T140025Z
LAST-MODIFIED:20250731T175832Z
UID:10000539-1754294400-1754326800@www.enysoccer.com
SUMMARY:CANCELLED-----2025 Summer Series 6v6-----CANCELLED
DESCRIPTION:Jun-2025 Summer Series Soccer tournament \n  \nTournament Director:  Nick Gordon \nEmail:   info@etasoccerpark.com
URL:https://www.enysoccer.com/event/2025-summer-series-6v6/2025-08-04/
LOCATION:ETA Soccer Park\, Hawkins Rd\,\, Centereach\, New York\, 11720\, United States
CATEGORIES:Sanctioned Tournaments
END:VEVENT
BEGIN:VEVENT
DTSTART;VALUE=DATE:20250816
DTEND;VALUE=DATE:20250817
DTSTAMP:20260421T214504
CREATED:20250422T140025Z
LAST-MODIFIED:20250731T175832Z
UID:10000540-1755331200-1755363600@www.enysoccer.com
SUMMARY:CANCELLED-----2025 Summer Series 6v6-----CANCELLED
DESCRIPTION:Jun-2025 Summer Series Soccer tournament \n  \nTournament Director:  Nick Gordon \nEmail:   info@etasoccerpark.com
URL:https://www.enysoccer.com/event/2025-summer-series-6v6/2025-08-16/
LOCATION:ETA Soccer Park\, Hawkins Rd\,\, Centereach\, New York\, 11720\, United States
CATEGORIES:Sanctioned Tournaments
END:VEVENT
BEGIN:VEVENT
DTSTART;VALUE=DATE:20250823
DTEND;VALUE=DATE:20250825
DTSTAMP:20260421T214504
CREATED:20250319T175657Z
LAST-MODIFIED:20250319T175657Z
UID:10000512-1755907200-1756079999@www.enysoccer.com
SUMMARY:Long Island Classic
DESCRIPTION:Aug-Long Island Classic \n  \nTournament Director:  Rick deVres \nEmail:  director@longislandsoccerclassic.com
URL:https://www.enysoccer.com/event/long-island-classic-2/
LOCATION:Sachem/Smithtown/West Islip
CATEGORIES:Sanctioned Tournaments
END:VEVENT
BEGIN:VEVENT
DTSTART;VALUE=DATE:20250823
DTEND;VALUE=DATE:20250824
DTSTAMP:20260421T214504
CREATED:20250422T140025Z
LAST-MODIFIED:20250731T175832Z
UID:10000541-1755936000-1755968400@www.enysoccer.com
SUMMARY:CANCELLED-----2025 Summer Series 6v6-----CANCELLED
DESCRIPTION:Jun-2025 Summer Series Soccer tournament \n  \nTournament Director:  Nick Gordon \nEmail:   info@etasoccerpark.com
URL:https://www.enysoccer.com/event/2025-summer-series-6v6/2025-08-23/
LOCATION:ETA Soccer Park\, Hawkins Rd\,\, Centereach\, New York\, 11720\, United States
CATEGORIES:Sanctioned Tournaments
END:VEVENT
BEGIN:VEVENT
DTSTART;VALUE=DATE:20250824
DTEND;VALUE=DATE:20250826
DTSTAMP:20260421T214504
CREATED:20250528T131710Z
LAST-MODIFIED:20250616T173802Z
UID:10000545-1755993600-1756166399@www.enysoccer.com
SUMMARY:46th Annual East Meadow Summer Tournament
DESCRIPTION:Aug-46th Annual East Meadow Summer Tournament \n  \nTournament Director:  Michael Cartier \n 
URL:https://www.enysoccer.com/event/46th-annual-east-meadow-summer-tournament/
LOCATION:Nassau County\, NY
CATEGORIES:Sanctioned Tournaments
END:VEVENT
BEGIN:VEVENT
DTSTART;VALUE=DATE:20250830
DTEND;VALUE=DATE:20250901
DTSTAMP:20260421T214504
CREATED:20250507T181746Z
LAST-MODIFIED:20250507T181746Z
UID:10000544-1756512000-1756684799@www.enysoccer.com
SUMMARY:JJFC Labor Day Tournament
DESCRIPTION:Aug-JJFC Labor Day Tournament \n  \nTournament Director:  David Nuttall \nEmail:  tournament@johnjayfc.com
URL:https://www.enysoccer.com/event/jjfc-labor-day-tournament/
LOCATION:Onatru Farm Park\, 99 Elmwood Rd\, South Salem\, NY\, United States
CATEGORIES:Sanctioned Tournaments
END:VEVENT
BEGIN:VEVENT
DTSTART;VALUE=DATE:20250830
DTEND;VALUE=DATE:20250901
DTSTAMP:20260421T214504
CREATED:20250619T183711Z
LAST-MODIFIED:20250619T185230Z
UID:10000547-1756512000-1756684799@www.enysoccer.com
SUMMARY:Alby Cup
DESCRIPTION:Aug-Alby Cup \n  \nTournament Director:  Robin Lee \nEmail:  rlee@albertsonsoccer.com
URL:https://www.enysoccer.com/event/alby-cup-2/
LOCATION:Orlin & Cohen Sports Complex\, 271 Carleton Ave\, Central Islip\, NY\, 11722\, United States
CATEGORIES:Sanctioned Tournaments
END:VEVENT
BEGIN:VEVENT
DTSTART;VALUE=DATE:20250830
DTEND;VALUE=DATE:20250901
DTSTAMP:20260421T214504
CREATED:20250624T142016Z
LAST-MODIFIED:20250624T142016Z
UID:10000548-1756512000-1756684799@www.enysoccer.com
SUMMARY:OUSC BOB SCHRAGER MEMORIAL CUP
DESCRIPTION:Tournament Director:  Michael Soto \nEmail:  msotosoccer@gmail.com \nAug-OUSC Bob Schrager Memorial Cup
URL:https://www.enysoccer.com/event/ousc-bob-schrager-memorial-cup/
LOCATION:Oceanside Park/Boardman/EMSC Fields
END:VEVENT
BEGIN:VEVENT
DTSTART;VALUE=DATE:20250830
DTEND;VALUE=DATE:20250901
DTSTAMP:20260421T214504
CREATED:20250715T193245Z
LAST-MODIFIED:20250715T193245Z
UID:10000550-1756512000-1756684799@www.enysoccer.com
SUMMARY:LAGRANGE CUP
DESCRIPTION:Aug-Lagrange Cup \n  \nTournament Director:  Danielle Reilly \nEmail:  treasurer@lagrangesoccer.org
URL:https://www.enysoccer.com/event/lagrange-cup-2/
LOCATION:Stringham Park\, 78 Stringham Rd\, Lagrangeville\, NY\, 12540\, United States
CATEGORIES:Sanctioned Tournaments
END:VEVENT
BEGIN:VEVENT
DTSTART;TZID=America/New_York:20250830T080000
DTEND;TZID=America/New_York:20250831T170000
DTSTAMP:20260421T214504
CREATED:20250206T140941Z
LAST-MODIFIED:20250206T140941Z
UID:10000493-1756540800-1756659600@www.enysoccer.com
SUMMARY:Yorktown Labor Day Tournament 2025
DESCRIPTION:Aug-Yorktown Labor Day Tournament \n  \nTournament Director:  Bernadette Acevedo \nEmail:  yysc@verizon.net
URL:https://www.enysoccer.com/event/yorktown-labor-day-tournament-2025/
LOCATION:NY
CATEGORIES:Sanctioned Tournaments
END:VEVENT
END:VCALENDAR