BEGIN:VCALENDAR
VERSION:2.0
PRODID:-//Eastern NY Youth Soccer Association - ECPv6.15.17.1//NONSGML v1.0//EN
CALSCALE:GREGORIAN
METHOD:PUBLISH
X-ORIGINAL-URL:https://www.enysoccer.com
X-WR-CALDESC:Events for Eastern NY Youth Soccer Association
REFRESH-INTERVAL;VALUE=DURATION:PT1H
X-Robots-Tag:noindex
X-PUBLISHED-TTL:PT1H
BEGIN:VTIMEZONE
TZID:UTC
BEGIN:STANDARD
TZOFFSETFROM:+0000
TZOFFSETTO:+0000
TZNAME:UTC
DTSTART:20240101T000000
END:STANDARD
END:VTIMEZONE
BEGIN:VEVENT
DTSTART;TZID=UTC:20250519T180000
DTEND;TZID=UTC:20250519T193000
DTSTAMP:20260424T221816
CREATED:20250315T152841Z
LAST-MODIFIED:20250315T152841Z
UID:10000511-1747677600-1747683000@www.enysoccer.com
SUMMARY:ODP SOUTH BOYS (2013-2008)
DESCRIPTION:SPRING TRAINING 2024-25 SEASON\nODP SOUTH\, BOYS\n6:00 PM-7:30 PM: Boys 2013-2008 \nLocation: Hofstra Outdoors (North Campus)\nHofstra University\, Hempstead\, NY \n\n 
URL:https://www.enysoccer.com/event/odp-south-boys-2013-2008-11/
LOCATION:Hofstra University\, 230 Hofstra University\, Hempstead\, NY\, 11549\, United States
CATEGORIES:ODP,ODP Training South Boys
ATTACH;FMTTYPE=image/png:https://www.enysoccer.com/wp-content/uploads/sites/223/2024/01/eny_osdp_small.png
END:VEVENT
END:VCALENDAR