BEGIN:VCALENDAR
VERSION:2.0
PRODID:-//Eastern NY Youth Soccer Association - ECPv6.15.17.1//NONSGML v1.0//EN
CALSCALE:GREGORIAN
METHOD:PUBLISH
X-WR-CALNAME:Eastern NY Youth Soccer Association
X-ORIGINAL-URL:https://www.enysoccer.com
X-WR-CALDESC:Events for Eastern NY Youth Soccer Association
REFRESH-INTERVAL;VALUE=DURATION:PT1H
X-Robots-Tag:noindex
X-PUBLISHED-TTL:PT1H
BEGIN:VTIMEZONE
TZID:UTC
BEGIN:STANDARD
TZOFFSETFROM:+0000
TZOFFSETTO:+0000
TZNAME:UTC
DTSTART:20240101T000000
END:STANDARD
END:VTIMEZONE
BEGIN:VEVENT
DTSTART;TZID=UTC:20250602T180000
DTEND;TZID=UTC:20250602T193000
DTSTAMP:20260421T200152
CREATED:20250408T194333Z
LAST-MODIFIED:20250408T194333Z
UID:10000523-1748887200-1748892600@www.enysoccer.com
SUMMARY:ODP SOUTH BOYS (2013-2008)
DESCRIPTION:SPRING TRAINING 2024-25 SEASON\nODP SOUTH\, BOYS\n6:00 PM-7:30 PM: Boys 2013-2008 \nLocation: Hofstra Outdoors (North Campus)\nHofstra University\, Hempstead\, NY \n\n 
URL:https://www.enysoccer.com/event/odp-south-boys-2013-2008-12/
LOCATION:Hofstra University\, 230 Hofstra University\, Hempstead\, NY\, 11549\, United States
CATEGORIES:ODP,ODP Training South Boys
ATTACH;FMTTYPE=image/png:https://www.enysoccer.com/wp-content/uploads/sites/223/2024/01/eny_osdp_small.png
END:VEVENT
BEGIN:VEVENT
DTSTART;TZID=UTC:20250602T180000
DTEND;TZID=UTC:20250602T194500
DTSTAMP:20260421T200152
CREATED:20250408T194506Z
LAST-MODIFIED:20250528T210708Z
UID:10000524-1748887200-1748893500@www.enysoccer.com
SUMMARY:ODP SOUTH GIRLS (2013-2008)
DESCRIPTION:SPRING TRAINING 2024-25 SEASON – GIRLS\, ODP  SOUTH\n2010\, 2009\, 2008: \n@ SUNY Old Westbury – 6:15pm-7:45pm\nPractice soccer field next to Clark Athletic Center\n223 Store Hill Road\nOld Westbury\, NY\nFIELD LOCATION \n\n2011:\n@ Hofstra University\, 6:00pm-7:30pm\nIntramural Soccer Field\n102 Hofstra Northern Blvd.\nHempstead\, NY\nFIELD LOCATION \n\n2013\, 2012:\n@ Hofstra University\, 6:00pm-7:30pm\nSoftball Intramural Field\n102 Hofstra Northern Blvd.\nHempstead\, NY\nFIELD LOCATION \n\n 
URL:https://www.enysoccer.com/event/odp-south-girls-2013-2008-14/
LOCATION:NY
CATEGORIES:ODP,ODP Training South Girls
ATTACH;FMTTYPE=image/png:https://www.enysoccer.com/wp-content/uploads/sites/223/2024/01/eny_osdp_small.png
END:VEVENT
BEGIN:VEVENT
DTSTART;TZID=UTC:20250602T180000
DTEND;TZID=UTC:20250602T210000
DTSTAMP:20260421T200152
CREATED:20250320T161045Z
LAST-MODIFIED:20250320T161045Z
UID:10000519-1748887200-1748898000@www.enysoccer.com
SUMMARY:ODP NORTH (2013-2008)
DESCRIPTION:TRAINING 2024-25 SEASON\nODP NORTH\, OUTDOOR TRAINING\n6:00 PM-7:30 PM: Boys & Girls\, 2011\, 2012\, 2013\n7:30 PM-9:00 PM: Boys & Girls\, 2008\, 2009\, 2010 \nCantine Field\n6 Small W World Avenue\nSaugerties\, NY \n\n 
URL:https://www.enysoccer.com/event/odp-north-2013-2008-7/
LOCATION:Cantine Field\, 6 Small World Avenue\, Saugerties\, NY\, 12477\, United States
CATEGORIES:ODP,ODP Training North Boys,ODP Training North Girls
ATTACH;FMTTYPE=image/png:https://www.enysoccer.com/wp-content/uploads/sites/223/2024/01/eny_osdp_small.png
END:VEVENT
END:VCALENDAR